BEGIN:VCALENDAR
VERSION:2.0
PRODID:-//Estetic Point - ECPv6.15.14//NONSGML v1.0//EN
CALSCALE:GREGORIAN
METHOD:PUBLISH
X-WR-CALNAME:Estetic Point
X-ORIGINAL-URL:https://estetic-point.eu
X-WR-CALDESC:Veranstaltungen für Estetic Point
REFRESH-INTERVAL;VALUE=DURATION:PT1H
X-Robots-Tag:noindex
X-PUBLISHED-TTL:PT1H
BEGIN:VTIMEZONE
TZID:Europe/Paris
BEGIN:DAYLIGHT
TZOFFSETFROM:+0100
TZOFFSETTO:+0200
TZNAME:CEST
DTSTART:20250330T010000
END:DAYLIGHT
BEGIN:STANDARD
TZOFFSETFROM:+0200
TZOFFSETTO:+0100
TZNAME:CET
DTSTART:20251026T010000
END:STANDARD
BEGIN:DAYLIGHT
TZOFFSETFROM:+0100
TZOFFSETTO:+0200
TZNAME:CEST
DTSTART:20260329T010000
END:DAYLIGHT
BEGIN:STANDARD
TZOFFSETFROM:+0200
TZOFFSETTO:+0100
TZNAME:CET
DTSTART:20261025T010000
END:STANDARD
BEGIN:DAYLIGHT
TZOFFSETFROM:+0100
TZOFFSETTO:+0200
TZNAME:CEST
DTSTART:20270328T010000
END:DAYLIGHT
BEGIN:STANDARD
TZOFFSETFROM:+0200
TZOFFSETTO:+0100
TZNAME:CET
DTSTART:20271031T010000
END:STANDARD
END:VTIMEZONE
BEGIN:VEVENT
DTSTART;VALUE=DATE:20260228
DTEND;VALUE=DATE:20260301
DTSTAMP:20260424T172924
CREATED:20260122T074103Z
LAST-MODIFIED:20260127T095223Z
UID:15063-1772236800-1772323199@estetic-point.eu
SUMMARY:DERMATION™ LIVE ERLEBEN am 28.02.26 in Baden-Baden
DESCRIPTION:🎉 EINLADUNG ZUR PRÄSENTATION – DERMATION™ LIVE ERLEBEN \nDatum: 28.02.26 \nOrt: Baden-Baden \nBeginn: 11:00 Uhr \nErleben Sie die neueste Innovation im Bereich der transdermalen Wirkstoffanwendung! \nLernen Sie das Dermation™-Gerät kennen – eine moderne Technologie für Kosmetikstudios\, die sichtbare Ergebnisse liefert und Ihre Behandlungspalette nachhaltig erweitert. \n🕒 TAGESPROGRAMM – AGENDA \n11:00 Uhr – Empfang mit Sekt & Snacks \n11:30 Uhr – Begrüßung & Einführung in die Dermation™-Technologie • Was macht Dermation™ so besonders? \n\nWarum ist es ideal für jedes moderne Studio?\nAnwendungsmöglichkeiten & Vorteile für Ihre Kund:innen\n\n11:15 Uhr – Live-Demo & Testbehandlungen • Durchführung einer Behandlung vor Ort • Wir suchen 3 freiwillige Testpersonen – bitte bei Anmeldung angeben • Fragen zur Behandlung und Geräteeinstellung direkt an Expert:innen stellen \nAb 12:00 Uhr – Fragen\, Austausch & individuelle Gespräche • Tipps zur Integration in Ihr Behandlungskonzept • Zielgruppen & Preismodell • Erfolgsbeispiele aus der Praxis \nCa. 15:00  Uhr – Ausklang im schönen Ambiente mit Raum für Networking \n🎁 VORTEILE FÜR IHR STUDIO AUF EINEN BLICK ✔ Kein NiSV-Nachweis erforderlich ✔ Moderne Technik mit sichtbarem Soforteffekt ✔ Ideal kombinierbar mit Ihrer bestehenden Kosmetiklinie ✔ Intuitive Bedienung & kurze Behandlungszeit ✔ Zusatzeinnahmen durch neue Behandlungsmöglichkeiten ✔ Attraktive Konditionen für Teilnehmer:innen der Veranstaltung \n📣 Plätze sind begrenzt – bitte melden Sie sich vorab an! \n💬 Fragen vorab? Wir helfen gerne weiter \n✉️ info@estetic-point.eu \n📞 Mobil 0157 50746256 WhatsApp \nWir freuen uns auf Dich!
URL:https://estetic-point.eu/event/dermation-live-erleben-in-baden-baden/
LOCATION:Baden-Baden\, Falkenstraße 2\, Baden-Baden\, Baden-Württemberg\, 76530
ATTACH;FMTTYPE=image/jpeg:https://estetic-point.eu/wp-content/uploads/2026/01/Dermation1.jpg
END:VEVENT
END:VCALENDAR